BEGIN:VCALENDAR
VERSION:2.0
PRODID:-//InvisionCommunity Events 4.7.22//EN
METHOD:PUBLISH
CALSCALE:GREGORIAN
REFRESH-INTERVAL:PT15M
X-PUBLISHED-TTL:PT15M
X-WR-CALNAME:Eventi culturali
NAME:Eventi culturali
BEGIN:VTIMEZONE
TZID:Europe/London
TZURL:http://tzurl.org/zoneinfo/Europe/London
X-LIC-LOCATION:Europe/London
BEGIN:DAYLIGHT
TZOFFSETFROM:+0000
TZOFFSETTO:+0100
TZNAME:BST
DTSTART:20130331T020000Z
RRULE:FREQ=YEARLY;BYMONTH=3;BYDAY=-1SU
END:DAYLIGHT
BEGIN:STANDARD
TZOFFSETFROM:+0100
TZOFFSETTO:+0000
TZNAME:GMT
DTSTART:20131027T020000Z
RRULE:FREQ=YEARLY;BYMONTH=10;BYDAY=-1SU
END:STANDARD
END:VTIMEZONE
BEGIN:VEVENT
SUMMARY:Civitanova Marche alta (MC) - Convegno Araldico
DTSTAMP:20130926T134958Z
SEQUENCE:0
UID:726-1-6ccd8bfbdc7d7428e7082354d408d14b@www.lamoneta.it
ORGANIZER;CN="Littore":no-reply@lamoneta.it
DESCRIPTION:\nConferenza di Araldica “TESORI NASCOSTI… sotto gli occ
	hi di tutti!”\nArmorario Civitanovese parte II di Maurizio C. A. Gorra (
	araldista)\,  Alvise Manni (storico locale)\nSabato 5 Ottobre 2013\, ore 2
	1\nAUDITORIUM “San Paolo”Vicolo San Paolo\, 2 \nCIVITANOVA MARCHE ALTA
	 (MC)\n
DTSTART;VALUE=DATE:20131005
END:VEVENT
END:VCALENDAR
