BEGIN:VCALENDAR
VERSION:2.0
PRODID:-//InvisionCommunity Events 4.7.22//EN
METHOD:PUBLISH
CALSCALE:GREGORIAN
REFRESH-INTERVAL:PT15M
X-PUBLISHED-TTL:PT15M
X-WR-CALNAME:Eventi culturali
NAME:Eventi culturali
BEGIN:VTIMEZONE
TZID:Europe/London
TZURL:http://tzurl.org/zoneinfo/Europe/London
X-LIC-LOCATION:Europe/London
BEGIN:DAYLIGHT
TZOFFSETFROM:+0000
TZOFFSETTO:+0100
TZNAME:BST
DTSTART:20130331T020000Z
RRULE:FREQ=YEARLY;BYMONTH=3;BYDAY=-1SU
END:DAYLIGHT
BEGIN:STANDARD
TZOFFSETFROM:+0100
TZOFFSETTO:+0000
TZNAME:GMT
DTSTART:20131027T020000Z
RRULE:FREQ=YEARLY;BYMONTH=10;BYDAY=-1SU
END:STANDARD
END:VTIMEZONE
BEGIN:VEVENT
SUMMARY:Casale Monferrato - Convegno
DTSTAMP:20131118T111212Z
SEQUENCE:0
UID:742-1-6ccd8bfbdc7d7428e7082354d408d14b@www.lamoneta.it
ORGANIZER;CN="Littore":no-reply@lamoneta.it
DESCRIPTION:\nIL TRATTATO DI UTRECHT E IL MONFERRATO: PROBLEMI EUROPEI E
	 ASSETTI REGIONALI\nCasale Monferrato\, sabato 30 novembre 2013\nMuseo Civ
	ico e Gipsoteca “Bistolfi” – sala delle Lunette\nOre 15.00\nPROGRAMM
	A\nSaluti ufficiali\nIntroduce e Modera Roberto Maestri (Circolo Culturale
	 I Marchesi del Monferrato)\nIntervengono\nBLYTHE ALICE RAVIOLA\n(Institut
	o universitario “La Corte en Europa\"- Universidad Autónoma de Madrid)\
	nModifiche degli assetti istituzionali avvenute con\nl'inserimento del Mon
	ferrato nei ranghi del Regno sabaudo\nEUGENIO GAROGLIO\n(Associazione di r
	icostruzione storica Archibugieri di Monferrato)\nIl sistema militare saba
	udo agli inizi del Settecento\nLUCA GIANAZZA\n(Società Numismatica Italia
	na)\nTramonto di una nazione Problemi monetari del Monferrato post-gonzagh
	esco\nIn occasione del convegno il Museo Civico esporrà una selezione di 
	monete del proprio fondo numismatico\n
DTSTART;VALUE=DATE:20131130
END:VEVENT
END:VCALENDAR
