BEGIN:VCALENDAR
VERSION:2.0
PRODID:-//InvisionCommunity Events 4.7.22//EN
METHOD:PUBLISH
CALSCALE:GREGORIAN
REFRESH-INTERVAL:PT15M
X-PUBLISHED-TTL:PT15M
X-WR-CALNAME:Eventi culturali
NAME:Eventi culturali
BEGIN:VTIMEZONE
TZID:Europe/London
TZURL:http://tzurl.org/zoneinfo/Europe/London
X-LIC-LOCATION:Europe/London
BEGIN:DAYLIGHT
TZOFFSETFROM:+0000
TZOFFSETTO:+0100
TZNAME:BST
DTSTART:20140330T020000Z
RRULE:FREQ=YEARLY;BYMONTH=3;BYDAY=-1SU
END:DAYLIGHT
BEGIN:STANDARD
TZOFFSETFROM:+0100
TZOFFSETTO:+0000
TZNAME:GMT
DTSTART:20141026T020000Z
RRULE:FREQ=YEARLY;BYMONTH=10;BYDAY=-1SU
END:STANDARD
END:VTIMEZONE
BEGIN:VEVENT
SUMMARY:2° Memorial Correale (Castellammare di Stabia)
DTSTAMP:20140708T160146Z
SEQUENCE:1
UID:777-1-6ccd8bfbdc7d7428e7082354d408d14b@www.lamoneta.it
ORGANIZER;CN="tempolibero":no-reply@lamoneta.it
DESCRIPTION:\n\n2° Memorial Correale \n\n\n\n \n\n\n\nCastellammare di 
	Stabia (Napoli)\n\n\n\n \n\n\n\n \n\n\n\nManifestazione di Numismatica\, F
	ilatelia\, \n\n\n\n \n\n\n\nCartamoneta\, Cartoline\, Telecarte e Oggettis
	tica varie\, si svolgerà \n\n\n\n \n\n\n\na Castellammare di Stabia (Napo
	li) sabato 8 novembre 2014 e domenica 9 novembre 2014 \n\n\n\n \n\n\n\nall
	'interno dell'Hotel Le Palme\, sito in via Pioppiano N°113/a\, a Castella
	mmare di Stabia (Napoli).\n\n\n\n \n\n\n\nGli orari di apertura e chiusura
	:\n\n\n\n \n\n\n\nSabato 8 Novembre 2014\, dalle ore 9:00/14:00 - 15:00/18
	:00\n\n\n\n \n\n\n\nDomenica 9 Novembre 2014\, dalle ore 9:00 alle 12:30\n
	\n\n\n \n\n\n\n\nIngresso Libero\nPer ulteriori informazioni o contatti vi
	sitate il sito:\nhttp://clubdeltempolibero.xoom.it\n\n\n\n\n \n\n\n\n\no\n
	http://www.ristorantelepalme.com\n\n\n\n\n \n\n\n\n \n\n\n\n \n\n\n
DTSTART;VALUE=DATE:20141108
DTEND;VALUE=DATE:20141110
END:VEVENT
END:VCALENDAR
