BEGIN:VCALENDAR
VERSION:2.0
PRODID:-//InvisionCommunity Events 4.7.22//EN
METHOD:PUBLISH
CALSCALE:GREGORIAN
REFRESH-INTERVAL:PT15M
X-PUBLISHED-TTL:PT15M
X-WR-CALNAME:Eventi culturali
NAME:Eventi culturali
BEGIN:VTIMEZONE
TZID:Europe/London
TZURL:http://tzurl.org/zoneinfo/Europe/London
X-LIC-LOCATION:Europe/London
BEGIN:DAYLIGHT
TZOFFSETFROM:+0000
TZOFFSETTO:+0100
TZNAME:BST
DTSTART:20150329T020000Z
RRULE:FREQ=YEARLY;BYMONTH=3;BYDAY=-1SU
END:DAYLIGHT
BEGIN:STANDARD
TZOFFSETFROM:+0100
TZOFFSETTO:+0000
TZNAME:GMT
DTSTART:20151025T020000Z
RRULE:FREQ=YEARLY;BYMONTH=10;BYDAY=-1SU
END:STANDARD
END:VTIMEZONE
BEGIN:VEVENT
SUMMARY:67° CONVEGNO NUMISMATICO - FANO (PU)
DTSTAMP:20150110T173631Z
SEQUENCE:0
UID:792-1-6ccd8bfbdc7d7428e7082354d408d14b@www.lamoneta.it
ORGANIZER;CN="rcamil":no-reply@lamoneta.it
DESCRIPTION:\n67° CONVEGNO COMMERCIALE DI FILATELIA E NUMISMATICA.\nLa 
	manifestazione avrà luogo nel chiostro di S.Agostino\, in via Vitruvio 9.
	\nOrario di apertura : dalle ore 9:00 alle 19:00 con orario continuato\nIN
	GRESSO LIBERO\nPer gli operatori commerciali l’ingresso è consentito an
	che venerdì 10 luglio dalle 14 alle 19\nNella notte tra venerdì e sabato
	 sarà garantito un servizio di vigilanza.\nPer informazioni: William Ciav
	aglia 3278397355\nvilliam.ciavaglia@gmail.com\ninfo@circolocastellani.org\
	n
DTSTART;VALUE=DATE:20150711
END:VEVENT
END:VCALENDAR
