BEGIN:VCALENDAR
VERSION:2.0
PRODID:-//InvisionCommunity Events 4.7.22//EN
METHOD:PUBLISH
CALSCALE:GREGORIAN
REFRESH-INTERVAL:PT15M
X-PUBLISHED-TTL:PT15M
X-WR-CALNAME:Eventi culturali
NAME:Eventi culturali
BEGIN:VTIMEZONE
TZID:Europe/London
TZURL:http://tzurl.org/zoneinfo/Europe/London
X-LIC-LOCATION:Europe/London
BEGIN:DAYLIGHT
TZOFFSETFROM:+0000
TZOFFSETTO:+0100
TZNAME:BST
DTSTART:20150329T020000Z
RRULE:FREQ=YEARLY;BYMONTH=3;BYDAY=-1SU
END:DAYLIGHT
BEGIN:STANDARD
TZOFFSETFROM:+0100
TZOFFSETTO:+0000
TZNAME:GMT
DTSTART:20151025T020000Z
RRULE:FREQ=YEARLY;BYMONTH=10;BYDAY=-1SU
END:STANDARD
END:VTIMEZONE
BEGIN:VEVENT
SUMMARY:Le monete di Augusto (F.Catalli).
DTSTAMP:20150526T094901Z
SEQUENCE:0
UID:812-1-6ccd8bfbdc7d7428e7082354d408d14b@www.lamoneta.it
ORGANIZER;CN="Rapax":no-reply@lamoneta.it
DESCRIPTION:\nIl Centro Culturale Numismatico Milanese ha deciso di conc
	ludere gli incontri prima della pausa estiva con qualcosa di \"veramente c
	lassico\". La conferenza di martedì 9 giugno ore 20.45 (nella nostra sede
	 di via Terraggio 1\, Milano) sarà tenuta da Fiorenzo Catalli\, che parle
	rà su: \"Le monete di Augusto: un moderno e raffinato mezzo di comunicazi
	one\". L'argomento è stato oggetto di molti articoli\, studi\, approfondi
	menti\, e di molte discussioni anche qui sul Forum: sia partendo dai ritra
	tti di Ottaviano-Augusto e dalla loro evoluzione\, sia dai rovesci auguste
	i\, sia direttamente sul tema della \"propaganda\" (c'era o non c'era\, e 
	se sì\, com'era condotta). E poi il tema dinastico e familiare: le monete
	 con Augusto e Agrippa (Nemausus)\, il notissimo aureo/ denario coi nipoti
	 Caio e Lucio Cesari\, e così via. Direi che i temi non mancano\, anzi c
	'è solo l'imbarazzo della scelta! E sicuramente Fiorenzo Catalli sceglie
	rà bene.\nhttp://www.lamoneta.it/topic/137228-le-monete-di-augusto-fcatal
	li/\n
DTSTART;VALUE=DATE:20150609
END:VEVENT
END:VCALENDAR
