BEGIN:VCALENDAR
VERSION:2.0
PRODID:-//InvisionCommunity Events 4.7.22//EN
METHOD:PUBLISH
CALSCALE:GREGORIAN
REFRESH-INTERVAL:PT15M
X-PUBLISHED-TTL:PT15M
X-WR-CALNAME:Eventi Misti
NAME:Eventi Misti
BEGIN:VTIMEZONE
TZID:Europe/London
TZURL:http://tzurl.org/zoneinfo/Europe/London
X-LIC-LOCATION:Europe/London
BEGIN:DAYLIGHT
TZOFFSETFROM:+0000
TZOFFSETTO:+0100
TZNAME:BST
DTSTART:20170326T020000Z
RRULE:FREQ=YEARLY;BYMONTH=3;BYDAY=-1SU
END:DAYLIGHT
BEGIN:STANDARD
TZOFFSETFROM:+0100
TZOFFSETTO:+0000
TZNAME:GMT
DTSTART:20171029T020000Z
RRULE:FREQ=YEARLY;BYMONTH=10;BYDAY=-1SU
END:STANDARD
END:VTIMEZONE
BEGIN:VEVENT
SUMMARY:Parma 2017: Convegno Numismatico-Filatelico
DTSTAMP:20160929T205030Z
SEQUENCE:0
UID:828-3-6ccd8bfbdc7d7428e7082354d408d14b@www.lamoneta.it
ORGANIZER;CN="incuso":no-reply@lamoneta.it
DESCRIPTION:\n\n	Il Convegno Numismatico\, Filatelico e del Collezionism
	o di Parma si terrà il 31 marzo e il 1 aprile presso l'Hotel Parma &amp\;
	 Congressi\, via Emilia Ovest\, 281/a Parma\, sono aperte le prenotazioni 
	per i sig.ri espositori.\n\n\n\n	Sede\n\n\n\n	Il convegno si tiene nei loc
	ali del prestigioso Hotel Parma &amp\; Congressi nei pressi della città d
	i Parma e facilmente raggiungibile sia con il mezzo proprio (l'hotel è do
	tato di ampio parcheggio) che dalla stazione ferroviaria.\n\n	Il convegno 
	si svolge presso le sale del pian terreno dell'Hotel in un'area riservata 
	e sorvegliata.\n\n	I signori espositori cyhe desiderino soggiornare presso
	 l'hotel possono prenotare una camera a prezzi agevolati per lla durata de
	l convegno.\n\n\n\n	Orari\n\n\n\n\n		Venerdì 31 marzo: 14:00-18:00\n	\n	\
	n		Sabato 1 aprile: 9:00-18:00\n	\n\n\n	Servizi per espositori\n\n\n\n	Per
	 la durata del congegno sono previsti i seguenti servizi per i signori esp
	ositori:\n\n\n\n\n		accesso a parcheggio riservato per scarico e carico me
	rce\n	\n	\n		sorveglianza con guardie giurate durante lo svolgimento del c
	onvegno e per le operazioni di carico materiale\n	\n	\n		sorveglianza nott
	urna delle sale convegno\n	\n	\n		tariffe agevolate soggiorno hotel e serv
	izio bar\n	\n\n\n	Tariffe\n\n\n\n	Lo spazio espositivo è costituito da un
	o o piú tavoli indicativamente lunghi 180 cm e ciascuno dotato di due sed
	ie.\n\n	Le tariffe per il noleggio dello spazio espositibvo sono le seguen
	ti\n\n\n\n\n		Primo tavolo: 100 €\n	\n	\n		Secondo tavolo 90 €\n	\n	\n
			Terzo tavolo e oltre: 80 €\n	\n\n\n	Contatti\n\n\n\n	Per prenotazione 
	spazi di esposizione:  Matteo Barbieri tel: 349 6647585\n\n\n\n	 \n\n\n\
	n	\n\n\n	 \n\n\n\n	 \n\n\n\n	 \n\n
DTSTART;VALUE=DATE:20170331
DTEND;VALUE=DATE:20170402
ATTENDEE;CN="filippo80";CUTYPE=INDIVIDUAL;PARTSTAT=ACCEPTED:
	no-reply@lamoneta.it
END:VEVENT
END:VCALENDAR
