BEGIN:VCALENDAR
VERSION:2.0
PRODID:-//InvisionCommunity Events 4.7.22//EN
METHOD:PUBLISH
CALSCALE:GREGORIAN
REFRESH-INTERVAL:PT15M
X-PUBLISHED-TTL:PT15M
X-WR-CALNAME:Eventi culturali
NAME:Eventi culturali
BEGIN:VTIMEZONE
TZID:Europe/London
TZURL:http://tzurl.org/zoneinfo/Europe/London
X-LIC-LOCATION:Europe/London
BEGIN:DAYLIGHT
TZOFFSETFROM:+0000
TZOFFSETTO:+0100
TZNAME:BST
DTSTART:20160327T020000Z
RRULE:FREQ=YEARLY;BYMONTH=3;BYDAY=-1SU
END:DAYLIGHT
BEGIN:STANDARD
TZOFFSETFROM:+0100
TZOFFSETTO:+0000
TZNAME:GMT
DTSTART:20161030T020000Z
RRULE:FREQ=YEARLY;BYMONTH=10;BYDAY=-1SU
END:STANDARD
END:VTIMEZONE
BEGIN:VEVENT
SUMMARY:Conferenze del Circolo Numismatico Ticinese
DTSTAMP:20161015T100140Z
SEQUENCE:0
UID:832-1-6ccd8bfbdc7d7428e7082354d408d14b@www.lamoneta.it
ORGANIZER;CN="Reficul":no-reply@lamoneta.it
DESCRIPTION:\n\n	Venerdì 21 ottobre alle ore 19:00 riprenderanno\, a Vi
	ganello alla casa per anziani *La Meridiana*\,\n\n\n\n	in via Crocetta 9\,
	 le consuete conferenze del Circolo Numismatico Ticinese.\n\n\n\n	In quest
	a penultima conferenza del 2016 il vice presidente Giovanni Maria Staffier
	i intratterrà i\n\n\n\n	convenuti su:\n\n\n\n	I ritratti senza corona sui
	 bronzi imperiali alessandrini\n\n\n\n	Nell`ambito dello studio dei ritrat
	ti delle coniazioni alessandrine emerge una particolarità rara che\n\n\n\
	n	interessa quelli delle emissioni bronzee degli Augusti a partire dall`an
	no 18 di Adriano (133-134 d.C.)\n\n\n\n	fino al terzo anno di correggenza 
	di Commodo con Marco Aurelio (sotto l`anno 19 di quest`ultimo:\n\n\n\n	178
	/179 d.C.)\, passando attraverso i regni di Antonino Pio e Lucio Vero.\n\n
	\n\n	Un breve arco di tempo di 45 anni che ci fornisce una serie di ritrat
	ti dall`incisione particolarmente\n\n\n\n	accurata e con alcune altre cara
	tteristiche che li distinguono dai numerali bronzei con ritratti coronati.
	\n\n\n\n	Non entrano in considerazione\, nel periodo che ci occupa\, i bro
	nzi emessi a nome e con ritratto nudo\n\n\n\n	dei Cesari Elio Vero e Marco
	 Aurelio che\, ovviamente\, in questa funzione non portano alcuna corona.\
	n\n\n\n	La comunicazione introduce in questa tematica mai finora affrontat
	a\, nell`attesa di pubblicare il\n\n\n\n	catalogo ragionato e aggiornato d
	elle monete in oggetto\, che è in allestimento.\n\n\n\n	La conferenza à 
	aperta a tutti gli interessati di numismatica e storia.\n\n
DTSTART:20161021T170000Z
DTEND:20161021T180000Z
END:VEVENT
END:VCALENDAR
