BEGIN:VCALENDAR
VERSION:2.0
PRODID:-//InvisionCommunity Events 4.7.22//EN
METHOD:PUBLISH
CALSCALE:GREGORIAN
REFRESH-INTERVAL:PT15M
X-PUBLISHED-TTL:PT15M
X-WR-CALNAME:Eventi culturali
NAME:Eventi culturali
BEGIN:VTIMEZONE
TZID:Europe/London
TZURL:http://tzurl.org/zoneinfo/Europe/London
X-LIC-LOCATION:Europe/London
BEGIN:DAYLIGHT
TZOFFSETFROM:+0000
TZOFFSETTO:+0100
TZNAME:BST
DTSTART:20160327T020000Z
RRULE:FREQ=YEARLY;BYMONTH=3;BYDAY=-1SU
END:DAYLIGHT
BEGIN:STANDARD
TZOFFSETFROM:+0100
TZOFFSETTO:+0000
TZNAME:GMT
DTSTART:20161030T020000Z
RRULE:FREQ=YEARLY;BYMONTH=10;BYDAY=-1SU
END:STANDARD
END:VTIMEZONE
BEGIN:VEVENT
SUMMARY:Conferenza del Circolo Numisamtico Ticinese
DTSTAMP:20161105T095224Z
SEQUENCE:0
UID:842-1-6ccd8bfbdc7d7428e7082354d408d14b@www.lamoneta.it
ORGANIZER;CN="FRANZOSI Giuliano":no-reply@lamoneta.it
DESCRIPTION:\n\n	Allego il volantino dell'ultima conferenza\, per il 201
	6\, del Circolo Numismatico Ticinese\n\n\n\n	il Segretario G. Franzosi\n\n
	\n\n	Macchi.pdf\n\n
DTSTART:20161125T180000Z
DTEND:20161125T190000Z
END:VEVENT
END:VCALENDAR
