BEGIN:VCALENDAR
VERSION:2.0
PRODID:-//InvisionCommunity Events 4.7.22//EN
METHOD:PUBLISH
CALSCALE:GREGORIAN
REFRESH-INTERVAL:PT15M
X-PUBLISHED-TTL:PT15M
X-WR-CALNAME:Eventi Misti
NAME:Eventi Misti
BEGIN:VTIMEZONE
TZID:Europe/London
TZURL:http://tzurl.org/zoneinfo/Europe/London
X-LIC-LOCATION:Europe/London
BEGIN:DAYLIGHT
TZOFFSETFROM:+0000
TZOFFSETTO:+0100
TZNAME:BST
DTSTART:20180325T020000Z
RRULE:FREQ=YEARLY;BYMONTH=3;BYDAY=-1SU
END:DAYLIGHT
BEGIN:STANDARD
TZOFFSETFROM:+0100
TZOFFSETTO:+0000
TZNAME:GMT
DTSTART:20181028T020000Z
RRULE:FREQ=YEARLY;BYMONTH=10;BYDAY=-1SU
END:STANDARD
END:VTIMEZONE
BEGIN:VEVENT
SUMMARY:Parma 2018: Convegno Numismatico-Filatelico
DTSTAMP:20180125T222243Z
SEQUENCE:0
UID:880-3-6ccd8bfbdc7d7428e7082354d408d14b@www.lamoneta.it
ORGANIZER;CN="incuso":no-reply@lamoneta.it
DESCRIPTION:\n\n	Il Convegno Numismatico\, Filatelico e del Collezionism
	o di Parma si terrà il 27-28 aprile  presso l'Hotel Parma &amp\; Congres
	si\, via Emilia Ovest\, 281/a Parma\, sono aperte le prenotazioni per i si
	g.ri espositori.\n\n\n\n	Sede\n\n\n\n	Il convegno si tiene nei locali del 
	prestigioso Hotel Parma &amp\; Congressi nei pressi della città di Parma 
	e facilmente raggiungibile sia con il mezzo proprio (l'hotel è dotato di 
	ampio parcheggio) che dalla stazione ferroviaria.\n\n\n	Il convegno si svo
	lge presso le sale del pian terreno dell'Hotel in un'area riservata e sorv
	egliata.\n\n\n	I signori espositori che desiderino soggiornare presso l'ho
	tel possono prenotare una camera a prezzi agevolati per lla durata del con
	vegno.\n\n\n\n	Orari\n\n\n\n\n		Venerdì 27 aprile: 14:00-18:00\n	\n	\n		S
	abato 28 aprile: 9:00-18:00\n	\n\n\n	Servizi per espositori\n\n\n\n	Per la
	 durata del congegno sono previsti i seguenti servizi per i signori esposi
	tori:\n\n\n\n\n		accesso a parcheggio riservato per scarico e carico merce
	\n	\n	\n		sorveglianza con guardie giurate durante lo svolgimento del conv
	egno e per le operazioni di carico materiale\n	\n	\n		sorveglianza notturn
	a delle sale convegno\n	\n	\n		tariffe agevolate soggiorno hotel e servizi
	o bar\n	\n\n\n	Tariffe\n\n\n\n	Lo spazio espositivo è costituito da uno o
	 piú tavoli indicativamente lunghi 180 cm e ciascuno dotato di due sedie.
	\n\n	Le tariffe per il noleggio dello spazio espositibvo sono le seguenti\
	n\n\n\n\n		Primo tavolo: 100 €\n	\n	\n		Secondo tavolo 90 €\n	\n	\n		T
	erzo tavolo e oltre: 80 €\n	\n\n\n	Contatti\n\n\n\n	Per prenotazione spa
	zi di esposizione:  Matteo Barbieri tel: 349 6647585\n\n\n\n	\n\n\n\n	 \
	n\n
DTSTART:20180427T120000Z
DTEND:20180428T170000Z
END:VEVENT
END:VCALENDAR
