BEGIN:VCALENDAR
VERSION:2.0
PRODID:-//InvisionCommunity Events 4.7.22//EN
METHOD:PUBLISH
CALSCALE:GREGORIAN
REFRESH-INTERVAL:PT15M
X-PUBLISHED-TTL:PT15M
X-WR-CALNAME:Eventi Commerciali
NAME:Eventi Commerciali
BEGIN:VTIMEZONE
TZID:Europe/London
TZURL:http://tzurl.org/zoneinfo/Europe/London
X-LIC-LOCATION:Europe/London
BEGIN:DAYLIGHT
TZOFFSETFROM:+0000
TZOFFSETTO:+0100
TZNAME:BST
DTSTART:20190331T020000Z
RRULE:FREQ=YEARLY;BYMONTH=3;BYDAY=-1SU
END:DAYLIGHT
BEGIN:STANDARD
TZOFFSETFROM:+0100
TZOFFSETTO:+0000
TZNAME:GMT
DTSTART:20191027T020000Z
RRULE:FREQ=YEARLY;BYMONTH=10;BYDAY=-1SU
END:STANDARD
END:VTIMEZONE
BEGIN:VEVENT
SUMMARY:MS International Vilnius Coin Fair 16-17 november 2019
DTSTAMP:20191003T141101Z
SEQUENCE:0
UID:939-2-6ccd8bfbdc7d7428e7082354d408d14b@www.lamoneta.it
ORGANIZER;CN="Geoffrey Winstein":no-reply@lamoneta.it
DESCRIPTION:\n\n	Hello !\n\n\n\n	We would like to invite you to the sec
	ond edition of the MS International Coin Fair in Vilnius\, Lithuania on 16
	-17 November 2019. We would be very pleasured to welcome you to this great
	 event. The Coin Fair is a great opportunity to present and promote your b
	usiness. You can register as an exhibitor or get a ticket as a visitor. \n
	\n\n\n	--&gt\; https://tickets.paysera.com/en/event/vilnius-international
	-coin-fair-2019\n\n\n\n	MS Vilnius International Coin Fair 2019 is the big
	gest international numismatic event at this scale held in the Baltic State
	s and Eastern Europe. \n\n\n\n	The event aims to promote the numismatic tr
	aditions in Europe and encourage investments into the precious metals and 
	collectors’ commodities. \n\n\n\n	Trade show of coins\, medals\, investm
	ent gold\, banknotes\, accessories\, precious metals and decorations. Begi
	nners\, numismatists\, collectors\, dealers and private investors are all 
	welcomed.\n\n\n\n	The program includes the following:\n\n\n\n	·  
	       LOTTERY\n\n\n\n	·         CONFERENCES\n\n\n
	\n	·         NETWORKING\n\n\n\n	·         VIP PARTY (Lim
	ited number of places)\n\n\n\n	·         2 LIVE AUCTIONS ON https
	://millenium-state.com/auction/live\n\n\n\n	·         TRAININGS -
	 How to use the online numismatic online platform millenium State. ( Bulli
	on Gold - Numismatic - Live auctions - Live Bidding System )\n\n\n\n	For m
	ore information or any questions do not hesitate to contact us. We hope to
	 see you at the fair soon!!!\n\n\n\n	Contact: contact@millenium-state.com\
	n\n\n
DTSTART;VALUE=DATE:20191116
DTEND;VALUE=DATE:20191118
END:VEVENT
END:VCALENDAR
